0.150
0
0
-0.150
634189.875
4757620.125
