0.150
0
0
-0.150
627519.975
4750550.025
