0.150
0
0
-0.150
627600.075
4745920.125
