0.150
0
0
-0.150
634410.075
4746059.925
