0.150
0
0
-0.150
644629.875
4746269.925
