0.150
0
0
-0.150
664770.075
4758310.125
