0.150
0
0
-0.150
664879.875
4753679.925
