0.150
0
0
-0.150
664999.875
4749050.025
