0.150
0
0
-0.150
668400.075
4749140.025
