0.150
0
0
-0.150
665049.975
4746740.025
