0.150
0
0
-0.150
671859.975
4746910.125
