0.150
0
0
-0.150
678309.975
4760969.925
