0.150
0
0
-0.150
563070.075
4728800.025
