0.150
0
0
-0.150
586839.975
4738330.125
