0.150
0
0
-0.150
566439.975
4733459.925
