0.150
0
0
-0.150
573259.875
4733530.125
