0.150
0
0
-0.150
590310.075
4733740.125
