0.150
0
0
-0.150
573309.975
4728910.125
