0.150
0
0
-0.150
586959.975
4729070.025
