0.150
0
0
-0.150
586989.975
4726760.025
