0.150
0
0
-0.150
593619.975
4740730.125
