0.150
0
0
-0.150
607320.075
4736309.925
