0.150
0
0
-0.150
597159.975
4731530.025
