0.150
0
0
-0.150
607429.875
4729370.025
