0.150
0
0
-0.150
634590.075
4736800.125
