0.150
0
0
-0.150
644970.075
4730069.925
