0.150
0
0
-0.150
671979.975
4742279.925
