0.150
0
0
-0.150
668739.975
4735259.925
