0.150
0
0
-0.150
655249.875
4727990.025
