0.150
0
0
-0.150
542629.875
4724009.925
