0.150
0
0
-0.150
563160.075
4719550.125
