0.150
0
0
-0.150
546129.975
4710149.925
