0.150
0
0
-0.150
576769.875
4724320.125
