0.150
0
0
-0.150
580189.875
4724360.025
