0.150
0
0
-0.150
583740.075
4712840.025
