0.150
0
0
-0.150
617820.075
4720289.925
