0.150
0
0
-0.150
617859.975
4717979.925
