0.150
0
0
-0.150
597390.075
4715330.025
