0.150
0
0
-0.150
594000.075
4712969.925
