0.150
0
0
-0.150
594060.075
4708340.025
