0.150
0
0
-0.150
597489.975
4708390.125
