0.150
0
0
-0.150
600909.975
4708439.925
