0.150
0
0
-0.150
611179.875
4708610.025
