0.150
0
0
-0.150
638370.075
4718360.025
