0.150
0
0
-0.150
624819.975
4711160.025
