0.150
0
0
-0.150
635089.875
4711349.925
