0.150
0
0
-0.150
624870.075
4708840.125
