0.150
0
0
-0.150
635130.075
4709039.925
