0.150
0
0
-0.150
648480.075
4725520.125
