0.150
0
0
-0.150
559899.975
4701010.125
